BEGIN:VCALENDAR
VERSION:2.0
PRODID:-//Louis A Martinet Association - ECPv6.15.20//NONSGML v1.0//EN
CALSCALE:GREGORIAN
METHOD:PUBLISH
X-ORIGINAL-URL:https://swlamartinet.com
X-WR-CALDESC:Events for Louis A Martinet Association
REFRESH-INTERVAL;VALUE=DURATION:PT1H
X-Robots-Tag:noindex
X-PUBLISHED-TTL:PT1H
BEGIN:VTIMEZONE
TZID:UTC
BEGIN:STANDARD
TZOFFSETFROM:+0000
TZOFFSETTO:+0000
TZNAME:UTC
DTSTART:20200101T000000
END:STANDARD
END:VTIMEZONE
BEGIN:VEVENT
DTSTART;TZID=UTC:20210907T080000
DTEND;TZID=UTC:20210907T170000
DTSTAMP:20260421T110956
CREATED:20200907T191343Z
LAST-MODIFIED:20200907T191351Z
UID:518-1631001600-1631034000@swlamartinet.com
SUMMARY:Test Event
DESCRIPTION:
URL:https://swlamartinet.com/event/test-event/
END:VEVENT
END:VCALENDAR